BEGIN:VCALENDAR
VERSION:2.0
PRODID:-//South Platte Renew - ECPv6.15.17.1//NONSGML v1.0//EN
CALSCALE:GREGORIAN
METHOD:PUBLISH
X-ORIGINAL-URL:https://southplatterenewco.gov
X-WR-CALDESC:Events for South Platte Renew
REFRESH-INTERVAL;VALUE=DURATION:PT1H
X-Robots-Tag:noindex
X-PUBLISHED-TTL:PT1H
BEGIN:VTIMEZONE
TZID:America/Denver
BEGIN:DAYLIGHT
TZOFFSETFROM:-0700
TZOFFSETTO:-0600
TZNAME:MDT
DTSTART:20250309T090000
END:DAYLIGHT
BEGIN:STANDARD
TZOFFSETFROM:-0600
TZOFFSETTO:-0700
TZNAME:MST
DTSTART:20251102T080000
END:STANDARD
BEGIN:DAYLIGHT
TZOFFSETFROM:-0700
TZOFFSETTO:-0600
TZNAME:MDT
DTSTART:20260308T090000
END:DAYLIGHT
BEGIN:STANDARD
TZOFFSETFROM:-0600
TZOFFSETTO:-0700
TZNAME:MST
DTSTART:20261101T080000
END:STANDARD
BEGIN:DAYLIGHT
TZOFFSETFROM:-0700
TZOFFSETTO:-0600
TZNAME:MDT
DTSTART:20270314T090000
END:DAYLIGHT
BEGIN:STANDARD
TZOFFSETFROM:-0600
TZOFFSETTO:-0700
TZNAME:MST
DTSTART:20271107T080000
END:STANDARD
END:VTIMEZONE
BEGIN:VEVENT
DTSTART;TZID=America/Denver:20260625T150000
DTEND;TZID=America/Denver:20260625T190000
DTSTAMP:20260419T102235
CREATED:20251030T171942Z
LAST-MODIFIED:20251030T171942Z
UID:5967-1782399600-1782414000@southplatterenewco.gov
SUMMARY:South Platte Renew WaterFest
DESCRIPTION:Join us at South Platte Renew for a fun-filled day celebrating our region's precious water resources and natural environment. This free\, family-friendly event features exciting attractions including live demonstrations with HawkQuest Birds of Prey\, interactive water education exhibits\, and guided facility tours. \nKids and adults alike will enjoy hands-on activities at the River Table\, exploring various trucks and equipment at our Touch-a-Truck display\, and participating in games with chances to win prizes. Learn about water conservation\, sustainability\, and natural resource renewal through engaging educational booths and demonstrations. Complimentary food will be provided. \nThis engaging community event offers something for everyone while highlighting the importance of environmental stewardship and water conservation in Colorado. Come discover how you can make a difference in protecting our natural resources for future generations. \nTo sponsor our event\, please visit our sponsor page: SouthPlatteRenewCo.Gov/Sponsor.
URL:https://southplatterenewco.gov/community-event/south-platte-renew-waterfest-2/
LOCATION:South Platte Renew\, 2900 S Platte River Dr\, Englewood\, CO\, 80110\, United States
ATTACH;FMTTYPE=image/jpeg:https://southplatterenewco.gov/wp-content/uploads/2025/10/WaterFest_2025_Operations-Booth-scaled.jpg
END:VEVENT
END:VCALENDAR